BEGIN:VCALENDAR
VERSION:2.0
PRODID:-//The Teen Expo - ECPv6.13.2.1//NONSGML v1.0//EN
CALSCALE:GREGORIAN
METHOD:PUBLISH
X-ORIGINAL-URL:https://www.theteenexpo.org
X-WR-CALDESC:Events for The Teen Expo
REFRESH-INTERVAL;VALUE=DURATION:PT1H
X-Robots-Tag:noindex
X-PUBLISHED-TTL:PT1H
BEGIN:VTIMEZONE
TZID:UTC
BEGIN:STANDARD
TZOFFSETFROM:+0000
TZOFFSETTO:+0000
TZNAME:UTC
DTSTART:20220101T000000
END:STANDARD
END:VTIMEZONE
BEGIN:VEVENT
DTSTART;VALUE=DATE:20220819
DTEND;VALUE=DATE:20220822
DTSTAMP:20260423T185717
CREATED:20211214T162735Z
LAST-MODIFIED:20211214T162841Z
UID:614-1660867200-1661126399@www.theteenexpo.org
SUMMARY:Join the Teen Expo at Camp Kupugani
DESCRIPTION:At Camp Kupugani\, our Parent-Child weekend provides a fantastic opportunity for Mom or Dad and a child to reinforce the parental bonds and connect with other parents and children. Our relaxing\, natural environment\, combined with team building and empowerment activities\, helps our participants celebrate the essential relationship between parents and children. Fun activities like pool time\, dam jumping\, and GaGa\, also helps to deepen bonds. \nJoin us as we provide a fantastic venue to celebrate the essential relationship between a parent and child. For only $250 a pair ($65 for each additional child) and experiences such as pool time\, canoeing\, and team building activities\, the relationship with your child is bound to grow deeper. \nParent-Child Weekend Details\n\nAugust 19-21\, 2022\nProfessional\, trained staff maximize camper development and safety\nInstill and reaffirm bonds of friendship and trust between parent and child\nParents/children can be either male or female\nConnect with a variety of parents and children of different backgrounds\nParents interact with each other to foster emotional support systems\nTons of fun! Never too late for Mom or Dad to go to camp!\n\n  \nRegistration is limited\, so if interested\, register online today! If you have a son or daughter aged 4-14 and you’d like to register by phone\, receive information by mail\, or for any questions at all\, please call us at 815-713-4110 or email.
URL:https://www.theteenexpo.org/event/join-the-teen-expo-at-camp-kupugani/
CATEGORIES:Family Camp
ATTACH;FMTTYPE=image/png:https://www.theteenexpo.org/wp-content/uploads/2021/12/Screen-Shot-2021-12-14-at-10.19.38-AM.png
END:VEVENT
END:VCALENDAR