BEGIN:VCALENDAR
VERSION:2.0
PRODID:-//The Teen Expo - ECPv6.13.2.1//NONSGML v1.0//EN
CALSCALE:GREGORIAN
METHOD:PUBLISH
X-WR-CALNAME:The Teen Expo
X-ORIGINAL-URL:https://www.theteenexpo.org
X-WR-CALDESC:Events for The Teen Expo
REFRESH-INTERVAL;VALUE=DURATION:PT1H
X-Robots-Tag:noindex
X-PUBLISHED-TTL:PT1H
BEGIN:VTIMEZONE
TZID:UTC
BEGIN:STANDARD
TZOFFSETFROM:+0000
TZOFFSETTO:+0000
TZNAME:UTC
DTSTART:20220101T000000
END:STANDARD
END:VTIMEZONE
BEGIN:VEVENT
DTSTART;TZID=UTC:20250925T170000
DTEND;TZID=UTC:20250925T193000
DTSTAMP:20260423T185250
CREATED:20250917T180228Z
LAST-MODIFIED:20250917T190808Z
UID:1063-1758819600-1758828600@www.theteenexpo.org
SUMMARY:Sunset At Bridges
DESCRIPTION:Join us as we connect at for Sunset @BRIDGES\, our annual community celebration that brings together BRIDGES alumni\, current students\, families\, donors\, community partners\, and friends for an evening of connection\, music\, and fun. \n\nLive Entertainment: Enjoy family-friendly performances by talented local Memphian artists and bands. The lineup is a beautifully curated mix\, promising a musical evening that everyone will enjoy.\nFood Trucks: Satisfy your taste buds with a delightful selection from food trucks.\nRock Climbing: Dare to climb? Experience the thrill on our indoor and outdoor rock walls — a fun activity open to all ages (remember to sign our waiver).\nBRIDGES Merchandise: We will have merchandise for current program participants\, alums\, partners\, and the community. BRIDGES Swag is HERE!\n\nEasy Access: With convenient on-site parking\, your journey here will be as pleasant as your time at the event. \nWeather Update: In case of rain\, don’t worry! We have a rain-check plan ready to ensure you don’t miss out on the fun. \nCome along with your lawn chairs and blankets for an unforgettable celebration of unity\, music\, and Memphis spirit at Sunset@BRIDGES! \nThis free event is an opportunity to celebrate the transformative power of youth leadership and the impact BRIDGES has had across Memphis and beyond.
URL:https://www.theteenexpo.org/event/sunset-at-bridges/
CATEGORIES:Seminar
ATTACH;FMTTYPE=image/jpeg:https://www.theteenexpo.org/wp-content/uploads/2025/09/Sunset.jpg
END:VEVENT
BEGIN:VEVENT
DTSTART;VALUE=DATE:20220415
DTEND;VALUE=DATE:20221001
DTSTAMP:20260423T185250
CREATED:20220411T181304Z
LAST-MODIFIED:20220411T181317Z
UID:661-1649980800-1664582399@www.theteenexpo.org
SUMMARY:Join the Teen Expo and Got Munchies 901 for the Food Truck Freshmen
DESCRIPTION:Join the Teen Expo and Got Munchies 901 as we open the opportunities for teens to gain hand on experience in the Food Truck Industry.  Got Munchies 901 Food Truck is home of the funnel cakes\, Italian ice\, nachos\, and more.  \nRequirements\nThe student must not have any outstanding assignments (late work)\, chronic absences\, or more than 1 suspension.  \n\nGrades: Rising 11th-12th\nMin 2.5 GPA\nEmergency Contact Form \nAudio-Video Release Form\n To keep up with Got Munchies 901 and for more information Click Here. 
URL:https://www.theteenexpo.org/event/join-the-teen-expo-and-got-munchies-901-for-the-food-truck-freshman/
CATEGORIES:Seminar
ATTACH;FMTTYPE=image/jpeg:https://www.theteenexpo.org/wp-content/uploads/2022/04/ARTWORK4-scaled.jpg
END:VEVENT
END:VCALENDAR